Workbook

Sheet Scoring
C2: Tens Test © v. 4.1 A test of sustained and selective auditory concentration | G2: ="Test results for " &B4 -> Test results for Sam Sample | L2: =E4 -> 7.1.26 | O2: © Glen D. Greenberg, PhD, ABPP www.greenbergg22@gmail.com
B4: Sam Sample | E4: 7.1.26 | F4: 56 | G4: 12 | H4: Male | I4: Memory concerns | O4: Sample data | Q4: ='Repeat Assessments'!C14 -> 4
B5: Name of Respondent | E5: Date of testing | F5: Age | G5: Ed | H5: Sex | I5: Diagnosis or Group | O5: Note | Q5: Number of Administrations
F7: Enter Number Correct | G7: Enter Number of Commissions
B8: DIRECTIONS | E8: Interval secs. | H8: ACCURACY INDEXES | O8: ACCURACY INDEX (Total Score) | Q8: RESULTS SUMMARY
B10: 1) Enter the number of correct responses and commission errors for each trial. 2) Enter the respondents estimated target identification percent. 3) OPTIONAL: Enter local or other group norms for analysis if that information is available. | E10: 1.8 | F10: 15 | G10: 0 | H10: =F10/(15+G10) -> 1 | Q10: ="An Accuracy Index of"&" "&TEXT(C22,"0%")&" "&" "&"was obtained with" & " " &F13&" "&"Correct identifications out of 45 targets, with"&" "&G13&" "&"Commission errors."&" This performance is classified as "&O13&"." -> An Accuracy Index of 83% was obtained with 38 Correct identifications out of 45 targets, with 1 Commission errors. This performance is classified as Moderate Difficulty.
E11: 1.4 | F11: 14 | G11: 0 | H11: =F11/(15+G11) -> 0.93333333
E12: 1.0 | F12: 9 | G12: 1 | H12: =F12/(15+G12) -> 0.5625
E13: Totals | F13: =SUM(F10:F12) -> 38 | G13: =SUM(G10:G12) -> 1 | H13: =C22 -> 0.82608696 | O13: =IF(F22>109,"Above Average",IF(AND(F22>89,F22<110),"Average Performance",IF(AND(F22>79,F22<90),"Low Average",IF(AND(F22>69,F22<80),"Mild Difficulty",IF(AND(F22>59,F22<70),"Moderate Difficulty",IF(AND(F22>49,F22<60),"Moderate to Severe Difficulty",IF(F22<50,"Significant Difficulty"))))))) -> Moderate Difficulty
E14: Target Hit % | F14: =F13/45 -> 0.84444444 | H14: =F13/(45+G13) -> 0.82608696 | O14: ="Score is z = "&TEXT(D22,"0.00")&" vs.healthy norms" -> Score is z = -2.22 vs.healthy norms | Q14: Go to AI Interpretation sheet
B16: RESPONDENT vs HEALTHY NORMS | H16: CORRECT and COMMISSIONS | O16: ACCURACY INDEX ACROSS TRIALS
C18: Scores | D18: z (sd) score | E18: T score (avg 50, sd 10) | F18: SS (avg 100, sd 15)
B19: Correct | C19: =F13 -> 38 | D19: =(F13-43.32)/2.19 -> -2.4292237 | E19: =(C19-43.3)/2.19*10+50 -> 25.799087 | F19: =(C19-43.3)/2.19*15+100 -> 63.69863
B20: Commissions | C20: =G13 -> 1 | D20: =(-G13-0.45)/0.65 -> -2.2307692 | E20: =(-C20-0.45)/0.65*10+50 -> 27.692308 | F20: =(-C20-0.45)/0.65*15+100 -> 66.538462
B22: Accuracy Index (AI) | C22: =F13/(45+G13) -> 0.82608696 | D22: =(C22-95.16%)/5.65% -> -2.2214698 | E22: =(C22-95.16%)/5.65%*10+50 -> 27.785302 | F22: =(C22-95.16%)/5.65%*15+100 -> 66.677953
B23: The Accuracy Index is the best measure of performance as it takes into account the number of correct responses and commissions.
B26: A raw score > 1.5 sd below the healthy norm is in red.
H27: 1.8 secs. 1.4 secs. 1.0 secs.
B29: RESPONDENT RATING OF PERFORMANCE | J29: Respondent's scores compared to Local or Other Group norms (Optional)
C31: Rate using drop-down list | E31: Interpretation | J31: Click Set Up Other Group Data tab to add a specific comparison group. The results will be automatically entered below. Click here to Set up Other Group Data.
B32: Difficulty rating | C32: Little difficult | E32: =IF(C33>100%,"Value entered is over 100%",IF(AND(C35>-9%,C35<11%),"Subject estimates performance within +/- 10%",IF(C35>9%,"Over-estimates ability","Under-estimates ability"))) -> Under-estimates ability
B33: Estimated Target % | C33: 0.5 | E33: =IF(E32="","",IF(E32="Over-estimates ability","Over-estimated performance may indicate poor awareness of ability",IF(E32="Under-estimates ability","Under-estimated performance may indicate poor awareness of ability or low mood.","Subject displays good ability to judge their cognitive performance."))) -> Under-estimated performance may indicate poor awareness of ability or low mood. | J33: Group Name | M33: ='Set Up Other Group Data'!C6 -> My group
B34: Actual Target % | C34: =F14 -> 0.84444444 | J34: Group stats | M34: Mean | N34: sd
B35: Difference | C35: =C33-C34 -> -0.34444444 | J35: Correct | M35: =IF('Set Up Other Group Data'!O12=0,"",'Set Up Other Group Data'!O12) | N35: ='Set Up Other Group Data'!P12 | O35: =IF('Set Up Other Group Data'!E10="","No data entered for other comparison group",'Set Up Other Group Data'!O14) -> No data entered for other comparison group
J36: Commissions | M36: ='Set Up Other Group Data'!O13 | N36: ='Set Up Other Group Data'!P13
J37: Accuracy Index | M37: ='Set Up Other Group Data'!O14 | N37: ='Set Up Other Group Data'!P14
J38: A.I. vs group | L38: z = | M38: =IF(M35="","",(C22-M37)/N37)
P52: Easy
Q53: A little difficult
Q54: Moderately difficult
Q55: Extremely difficult
T86: =CONCATENATE("Of the 45 targets, ",#REF!," ","were identified with ",#REF!," ","commission errors. This corresponds to an Accuracy Index of "&TEXT(#REF!,"0% ")&"which contrasts with the average of 95% for healthy individuals.") -> #REF!
T89: =CONCATENATE("The Accuracy Index, which takes into account correct answers and errors, is " &TEXT('Healthy Controls'!#REF!,"0%")&" different from the normative sample.") -> #REF!

Sheet Repeat Assessments
B2: REPEAT TENS TEST ASSESSMENTS | D2: REPEAT ASSESSMENTS
B4: Name of Respondent | C4: Sample | E4: Group or Diagnosis
B6: Administration # | C6: Date | D6: Correct | E6: Commissions | F6: Accuracy Index
B7: 1 | C7: 1.1.26 | D7: 40 | E7: 1 | F7: =IF(C7="","",D7/(45+E7)) -> 0.86956522
B8: 2 | C8: 2..1.26 | D8: 39 | E8: 0 | F8: =IF(C8="","",D8/(45+E8)) -> 0.86666667
B9: 3 | C9: 3.1.26 | D9: 39 | E9: 0 | F9: =IF(C9="","",D9/(45+E9)) -> 0.86666667
B10: 4 | C10: 7.1.26 | D10: 30 | E10: 2 | F10: =IF(C10="","",D10/(45+E10)) -> 0.63829787
B11: 5 | F11: =IF(C11="","",D11/(45+E11))
B13: STATISTICS
B14: Number of Assessments = | C14: =COUNTA(C7:C11) -> 4
B15: Average AI = | C15: =AVERAGE(F7:F11) -> 0.81029911
B16: SD = | C16: =STDEV(F7:F11) -> 0.11467563 | D16: Range
B17: Range = | C17: =MAX(F7:F11)-MIN(F7:F11) -> 0.23126735 | D17: =MIN(F7:F11) -> 0.63829787 | E17: to | F17: =MAX(F7:F11) -> 0.86956522

Sheet Set Up Other Group Data
B2: SET UP OTHER TENS TEST GROUP DATA
B4: This sheet organizes and analyzes your group data. Enter the number correct and the number of commissions for each subject for the 3 trials. The Accuracy Index for each subject and for the group will be automatically generated. This table accomodates 30 subjects.
B6: Group Name | C6: My group | F6: Note | G6: Specific disease sample | M6: GROUP RESULTS
E8: Enter | F8: Enter | I8: RESPONDENT RESULTS
B9: Respondent # | C9: Enter ID | D9: Trial (secs) | E9: Correct | F9: Commissions | G9: AI | I9: Correct | J9: Commissions | K9: AI | N9: Group name | O9: =IF(C6="","",C6) -> My group
B10: 1 | C10: 1 | D10: 1.8 | G10: =IF(E10="","",E10/(15+F10)) | I10: =IF(E10="","",SUM(E10:E12)) | J10: =IF(E10="","",SUM(F10:F12)) | K10: =IF(E10="","",I10/(45+J10))
D11: 1.4 | G11: =IF(E11="","",E11/(15+F11)) | N11: Group stats | O11: Mean | P11: sd
D12: 1 | G12: =IF(E12="","",E12/(15+F12)) | N12: Correct | O12: =IF(COUNTA(E10:E99)=0,"",AVERAGE(E10:E99)) | P12: =IF(COUNTA(E10:E99)=0,"",(_xlfn.STDEV.P(E10:E99)))
B13: 2 | D13: 1.8 | G13: =IF(E13="","",E13/(15+F13)) | I13: =IF(E13="","",SUM(E13:E15)) | J13: =IF(E13="","",SUM(F13:F15)) | K13: =IF(E13="","",I13/(45+J13)) | N13: Commission | O13: =IF(COUNTA(F10:F99)=0,"",AVERAGE(F10:F99)) | P13: =IF(COUNTA(E10:E99)=0,"",(_xlfn.STDEV.P(E10:E99)))
D14: 1.4 | G14: =IF(E14="","",E14/(15+F14)) | N14: AI | O14: =IF(COUNTA(E9:E98)=0,"",IFERROR(AVERAGE(G10:G99),"")) | P14: =IF(COUNTA(E9:E98)=0,"",IFERROR(STDEV(K10:K97),""))
D15: 1 | G15: =IF(E15="","",E15/(15+F15))
B16: 3 | D16: 1.8 | G16: =IF(E16="","",E16/(15+F16)) | I16: =IF(E16="","",SUM(E16:E18)) | J16: =IF(E16="","",SUM(F16:F18)) | K16: =IF(E16="","",I16/(45+J16)) | N16: Count | O16: =COUNT(G12,G15,G18,G21,G24,G27,G30,G33,G36,G39,G42,G45,G48,G51,G54,G57,G60,G63,G66,G69,G72,G75,G78,G81,G84,G87,G90,G93,G96,G99) -> 0
D17: 1.4 | G17: =IF(E17="","",E17/(15+F17))
D18: 1 | G18: =IF(E18="","",E18/(15+F18))
B19: 4 | D19: 1.8 | G19: =IF(E19="","",E19/(15+F19)) | I19: =IF(E19="","",SUM(E19:E21)) | J19: =IF(E19="","",SUM(F19:F21)) | K19: =IF(E19="","",I19/(45+J19)) | M19: The results are automatically entered into the LOCAL OR OTHER GROUP norms table on the Scoring tab.
D20: 1.4 | G20: =IF(E20="","",E20/(15+F20))
D21: 1 | G21: =IF(E21="","",E21/(15+F21))
B22: 5 | D22: 1.8 | G22: =IF(E22="","",E22/(15+F22)) | I22: =IF(E22="","",SUM(E22:E24)) | J22: =IF(E22="","",SUM(F22:F24)) | K22: =IF(E22="","",I22/(45+J22))
D23: 1.4 | G23: =IF(E23="","",E23/(15+F23))
D24: 1 | G24: =IF(E24="","",E24/(15+F24))
B25: 6 | D25: 1.8 | G25: =IF(E25="","",E25/(15+F25)) | I25: =IF(E25="","",SUM(E25:E27)) | J25: =IF(E25="","",SUM(F25:F27)) | K25: =IF(E25="","",I25/(45+J25))
D26: 1.4 | G26: =IF(E26="","",E26/(15+F26))
D27: 1 | G27: =IF(E27="","",E27/(15+F27))
B28: 7 | D28: 1.8 | G28: =IF(E28="","",E28/(15+F28)) | I28: =IF(E28="","",SUM(E28:E30)) | J28: =IF(E28="","",SUM(F28:F30)) | K28: =IF(E28="","",I28/(45+J28))
D29: 1.4 | G29: =IF(E29="","",E29/(15+F29))
D30: 1 | G30: =IF(E30="","",E30/(15+F30))
B31: 8 | D31: 1.8 | G31: =IF(E31="","",E31/(15+F31)) | I31: =IF(E31="","",SUM(E31:E33)) | J31: =IF(E31="","",SUM(F31:F33)) | K31: =IF(E31="","",I31/(45+J31))
D32: 1.4 | G32: =IF(E32="","",E32/(15+F32))
D33: 1 | G33: =IF(E33="","",E33/(15+F33))
B34: 9 | D34: 1.8 | G34: =IF(E34="","",E34/(15+F34)) | I34: =IF(E34="","",SUM(E34:E36)) | J34: =IF(E34="","",SUM(F34:F36)) | K34: =IF(E34="","",I34/(45+J34))
D35: 1.4 | G35: =IF(E35="","",E35/(15+F35))
D36: 1 | G36: =IF(E36="","",E36/(15+F36))
B37: 10 | D37: 1.8 | G37: =IF(E37="","",E37/(15+F37)) | I37: =IF(E37="","",SUM(E37:E39)) | J37: =IF(E37="","",SUM(F37:F39)) | K37: =IF(E37="","",I37/(45+J37))
D38: 1.4 | G38: =IF(E38="","",E38/(15+F38))
D39: 1 | G39: =IF(E39="","",E39/(15+F39))
B40: 11 | D40: 1.8 | G40: =IF(E40="","",E40/(15+F40)) | I40: =IF(E40="","",SUM(E40:E42)) | J40: =IF(E40="","",SUM(F40:F42)) | K40: =IF(E40="","",I40/(45+J40))
D41: 1.4 | G41: =IF(E41="","",E41/(15+F41))
D42: 1 | G42: =IF(E42="","",E42/(15+F42))
B43: 12 | D43: 1.8 | G43: =IF(E43="","",E43/(15+F43)) | I43: =IF(E43="","",SUM(E43:E45)) | J43: =IF(E43="","",SUM(F43:F45)) | K43: =IF(E43="","",I43/(45+J43))
D44: 1.4 | G44: =IF(E44="","",E44/(15+F44))
...

Sheet Healthy Controls
B2: RESPONDENT PERFORMANCE COMPARED TO HEALTHY NORMS
B4: Name | C4: =Scoring!B4 -> Sam Sample | E4: Date | F4: =Scoring!E4 -> 7.1.26
C6: HEALTHY NORMS | E6: RESPONDENT RESULTS | F6: RESPONDENT DIFFERENCE
C7: Mean | D7: SD | G7: z score
B8: Correct | C8: 43.32 | D8: 2.19 | E8: =Scoring!F13 -> 38 | F8: =Scoring!F13-'Healthy Controls'!C8 -> -5.32 | G8: =Scoring!D19 -> -2.4292237
B9: Commissions | C9: 0.45 | D9: 0.65 | E9: =Scoring!G13 -> 1 | F9: =Scoring!G13-'Healthy Controls'!C9 -> 0.55 | G9: =Scoring!D20 -> -2.2307692
B10: Target % | C10: 0.962 | E10: =Scoring!F14 -> 0.84444444 | F10: =Scoring!F14-'Healthy Controls'!C10 -> -0.11755556
B11: Accuracy Index | C11: 0.9516 | D11: 5.65 | E11: =Scoring!C22 -> 0.82608696 | F11: =Scoring!C22-'Healthy Controls'!C11 -> -0.12551304 | G11: =Scoring!D22 -> -2.2214698
C13: Commission errors: Higher score = more impairment

Sheet Print Results
B2: TENS TEST © 4.1 | C2: =" Results for " & Scoring!B4 -> Results for Sam Sample | F2: =Scoring!E4 -> 7.1.26 | H2: =Scoring!F4 -> 56 | I2: =Scoring!I4 -> Memory concerns | J2: =Scoring!Q4 -> 4
B3: © Glen D. Greenberg PhD | F3: Date of testing | H3: Age | I3: Diagnosis or Group | J3: Number of Assessments
B4: greenbergg22@gmail.com
C6: Note | D6: =Scoring!O4 -> Sample data
C7: Results Summary | D7: =Scoring!Q10 -> An Accuracy Index of 83% was obtained with 38 Correct identifications out of 45 targets, with 1 Commission errors. This performance is classified as Moderate Difficulty.
B9: INTERVAL (secs) | C9: Correct | D9: Commissions | E9: Accuracy Indexes
B10: 1.8 sec. | C10: =Scoring!F10 -> 15 | D10: =Scoring!G10 -> 0 | E10: =Scoring!H10 -> 1
B11: 1.4 sec. | C11: =Scoring!F11 -> 14 | D11: =Scoring!G11 -> 0 | E11: =Scoring!H11 -> 0.93333333
B12: 1.0 sec. | C12: =Scoring!F12 -> 9 | D12: =Scoring!G12 -> 1 | E12: =Scoring!H12 -> 0.5625 | H12: Accuracy Index
B13: Totals | C13: =Scoring!F13 -> 38 | D13: =Scoring!G13 -> 1 | E13: =Scoring!H13 -> 0.82608696 | H13: =Scoring!O13 -> Moderate Difficulty
B14: Target Hit % | C14: =C13/45 -> 0.84444444 | E14: =C13/(45+D13) -> 0.82608696
B16: COMPARISON TO HEALTHY CONTROLS | H16: RESPONDENT RATING OF PERFORMANCE
C18: Score | D18: z score | E18: T score | F18: SS | H18: Difficulty Rating | J18: =Scoring!C32 -> Little difficult
B19: Correct | C19: =Scoring!C19 -> 38 | D19: =Scoring!D19 -> -2.4292237 | E19: =Scoring!E19 -> 25.799087 | F19: =Scoring!F19 -> 63.69863 | H19: Estimated Accuracy % | J19: =Scoring!C33 -> 0.5
B20: Commissions | C20: =Scoring!C20 -> 1 | D20: =Scoring!D20 -> -2.2307692 | E20: =Scoring!E20 -> 27.692308 | F20: =Scoring!F20 -> 66.538462 | H20: Actual Target Accuracy | J20: =Scoring!C34 -> 0.84444444
B21: Accuracy Index | C21: =Scoring!C22 -> 0.82608696 | D21: =Scoring!D22 -> -2.2214698 | E21: =Scoring!E22 -> 27.785302 | F21: =Scoring!F22 -> 66.677953 | H21: Difference | J21: =Scoring!C35 -> -0.34444444
H22: =Scoring!E32 -> Under-estimates ability
H23: =Scoring!E33 -> Under-estimated performance may indicate poor awareness of ability or low mood.
B25: TENS TEST RESULTS (Correct vs. Commissions) | H25: ACCURACY INDEX ACROSS TRIALS
B37: LOCAL or OTHER GROUP NORMS Available if other group data has been entered
B39: Group Name | C39: =Scoring!M33 -> My group
C40: Means | D40: sds | E40: =Scoring!O35 -> No data entered for other comparison group | S40: Easy
B41: Group Avg Correct | C41: =Scoring!M35 | D41: =Scoring!N35 | T41: A little difficult
B42: Group Avg Commissions | C42: =Scoring!M36 | D42: =Scoring!N36 | T42: Moderately difficult | V42: 1
B43: Group A.I. | C43: =Scoring!M37 | D43: =Scoring!N37 | T43: Extremely difficult | V43: =E14 -> 0.82608696
B44: Ss AI vs. this group = | C44: =Scoring!M38 | V44: =V42-V43 -> 0.17391304
Z74: =CONCATENATE("Of the 45 targets, ",C26," ","were identified with ",C27," ","commission errors. This corresponds to an Accuracy Index of "&TEXT(C29,"0% ")&"which contrasts with the average of 95% for healthy individuals.") -> Of the 45 targets, were identified with commission errors. This corresponds to an Accuracy Index of 0% which contrasts with the average of 95% for healthy individuals.
Z77: =CONCATENATE("The Accuracy Index, which takes into account correct answers and errors, is " &TEXT('Healthy Controls'!#REF!,"0%")&" different from the normative sample.") -> #REF!

Sheet AI interpretation
B2: Tens Test © AI interpretation of results
B3: Copy and paste the following into an AI chatbox to obtain an interpretation of the Tens Test results
B5: Analyze and interpret this table of correct hits and commission errors over the three increasing faster auditory concentration trials:
B6: Stimulus interval | C6: Number correct out of 15 | D6: Number of commission errors
B7: 1.8 seconds | C7: =Scoring!F10 -> 15 | D7: =Scoring!G10 -> 0
B8: 1.4 seconds | C8: =Scoring!F11 -> 14 | D8: =Scoring!G11 -> 0
B9: 1.0 seconds | C9: =Scoring!F12 -> 9 | D9: =Scoring!G12 -> 1
B12: =HYPERLINK("https://openai.com", "OpenAI Click Here") -> OpenAI Click Here | D12: =HYPERLINK("https://gemini.google.com/app", "Google Gemini Click Here") -> Google Gemini Click Here
B14: OpenAI ChatCPT | D14: Google Gemini
B17: Other AI prompts to consider based on the respondents results (Paste into Chat Box)
A19: 1 | B19: What activities would be helpful to enhance a person's ability to sustain concentration?
A21: 2 | B21: When someone can initially pay attention well but then experiences difficulty when required to concentrate over a long period, what could be the causes and what strategies could help them?
A24: 3 | B24: When someone can initially pay attention well but then experiences difficulty when required to rapidly think, what could be the causes and which strategies can help them?
