Workbook

Sheet Enter Scores
C2: Tens Test © v. 4.3 A test of sustained and selective auditory concentration | G2: ="Test results for " &B4 -> Test results for Sam Sample | L2: =E4 -> 11.1.26 | O2: © Glen D. Greenberg, PhD, ABPP www.greenbergg22@gmail.com
B4: Sam Sample | E4: 11.1.26 | F4: 56 | G4: 12 | H4: Male | I4: Memory concerns | O4: Sample data | Q4: ='Repeated Assessments'!C14 -> 4
B5: Name of Respondent | E5: Date of testing | F5: Age | G5: Ed | H5: Sex | I5: Diagnosis or Group | O5: Note | Q5: Number of Administrations
F7: Enter Number Correct | G7: Enter Number of Commissions
B8: DIRECTIONS | E8: Interval secs. | H8: ACCURACY INDEXES | O8: ACCURACY INDEX (Total Score) | Q8: RESULTS SUMMARY
B10: 1) Enter the number of correct responses and commission errors for each trial. 2) Enter the respondent's estimated correct target identifications percent. 3) OPTIONAL: Enter local or other group norms for analysis if that information is available. | E10: 1.8 | F10: 15 | G10: 0 | H10: =F10/(15+G10) -> 1 | Q10: ="An Accuracy Index of"&" "&TEXT(C21,"0%")&" "&" "&"was obtained with" & " " &F13&" "&"Correct identifications out of 45 targets, with"&" "&G13&" "&"Commission errors."&" This performance is classified as "&O13&"." -> An Accuracy Index of 78% was obtained with 36 Correct identifications out of 45 targets, with 1 Commission errors. This performance is classified as Moderate to Severe Difficulty.
E11: 1.4 | F11: 14 | G11: 0 | H11: =F11/(15+G11) -> 0.93333333
E12: 1.0 | F12: 7 | G12: 1 | H12: =F12/(15+G12) -> 0.4375
E13: Totals | F13: =SUM(F10:F12) -> 36 | G13: =SUM(G10:G12) -> 1 | H13: =F13/(45+G13) -> 0.7826087 | O13: =IF(F21>109,"Above Average",IF(AND(F21>89,F21<110),"Average Performance",IF(AND(F21>79,F21<90),"Low Average",IF(AND(F21>69,F21<80),"Mild Difficulty",IF(AND(F21>59,F21<70),"Moderate Difficulty",IF(AND(F21>49,F21<60),"Moderate to Severe Difficulty",IF(F21<50,"Significant Difficulty"))))))) -> Moderate to Severe Difficulty
E14: Target Hit % | F14: =F13/45 -> 0.8 | H14: =F13/(45+G13) -> 0.7826087 | O14: ="z score = "&TEXT(D21,"0.00")&" vs.healthy norms" -> z score = -2.99 vs.healthy norms | Q14: Go to AI Interpretation sheet
B16: RESPONDENT vs HEALTHY NORMS | H16: CORRECT and COMMISSIONS | O16: ACCURACY INDEX ACROSS TRIALS
C18: Scores | D18: z (sd) score | E18: T (X̅ 50, sd 10) | F18: SS (X̅ 100, sd 15)
B19: Correct | C19: =F13 -> 36 | D19: =(F13-43.32)/2.19 -> -3.3424658 | E19: =(C19-43.3)/2.19*10+50 -> 16.666667 | F19: =(C19-43.3)/2.19*15+100 -> 50
B20: Commissions | C20: =G13 -> 1 | D20: =(-G13-0.45)/0.65 -> -2.2307692 | E20: =(-C20-0.45)/0.65*10+50 -> 27.692308 | F20: =(-C20-0.45)/0.65*15+100 -> 66.538462
B21: Accuracy Index (AI) | C21: =F13/(45+G13) -> 0.7826087 | D21: =(C21-95.16%)/5.65% -> -2.9909965 | E21: =(C21-95.16%)/5.65%*10+50 -> 20.090035 | F21: =(C21-95.16%)/5.65%*15+100 -> 55.135052
B22: The Accuracy Index is the best measure of performance as it takes into account the number of correct responses and commissions.
B25: A raw score > 1.5 sd below the healthy norm is in red.
H26: 1.8 secs. 1.4 secs. 1.0 secs.
B28: RESPONDENT RATING OF PERFORMANCE | J28: Respondent's scores compared to Local or Other Group norms (Optional)
J29: Use the Set Up Other Group Data tab to add a comparison group by inputting individual respondent scores. The results are automatically entered below. Do not enter data directly in the cells below. You can also enter group data directly in the Set Up Other Group Data tab using group means without a table of individual respondent scores.
C30: Rate using drop-down list | E30: Interpretation
B31: Difficulty rating | C31: Easy | E31: =IF(C32>100%,"Value entered is over 100%",IF(AND(C34>-9%,C34<11%),"Subject estimates performance within +/- 10%",IF(C34>9%,"Over-estimates ability","Under-estimates ability"))) -> Under-estimates ability
B32: Estimated Target % | C32: 0.5 | E32: =IF(E31="","",IF(E31="Over-estimates ability","Over-estimated performance may indicate poor awareness of ability",IF(E31="Under-estimates ability","Under-estimated performance may indicate poor awareness of ability or low mood.","Subject displays good ability to judge their cognitive performance."))) -> Under-estimated performance may indicate poor awareness of ability or low mood. | J32: FROM INDIVIDUAL SCORES on data table | O32: FROM KNOWN GROUP MEANS AND SD'S
B33: Actual Target % | C33: =F14 -> 0.8 | J33: Group name | M33: ='Set Up Other Group Data'!C6 -> My patient group | O33: Group name | P33: ='Set Up Other Group Data'!O27 -> Head injury sample
B34: Difference | C34: =C32-C33 -> -0.3 | J34: Group AI | M34: ='Set Up Other Group Data'!O13 -> 0.70138889 | O34: Group AI | P34: ='Set Up Other Group Data'!O32 -> 0.74152542
J35: Respondent A.I. vs group | M35: ='Set Up Other Group Data'!O15 -> 0.97270948 | O35: Respondent A.I. vs group | P35: ='Set Up Other Group Data'!O34 -> 0.93564875
P51: Easy
Q52: A little difficult
Q53: Moderately difficult
Q54: Extremely difficult
T85: =CONCATENATE("Of the 45 targets, ",#REF!," ","were identified with ",#REF!," ","commission errors. This corresponds to an Accuracy Index of "&TEXT(#REF!,"0% ")&"which contrasts with the average of 95% for healthy individuals.") -> #REF!
T88: =CONCATENATE("The Accuracy Index, which takes into account correct answers and errors, is " &TEXT('Healthy Controls Comparison'!#REF!,"0%")&" different from the normative sample.") -> #REF!

Sheet Repeated Assessments
B2: REPEATED TENS TEST ASSESSMENTS | D2: REPEAT ASSESSMENTS
B4: Name of Respondent | C4: Sample | E4: Group or Diagnosis
B6: Administration # | C6: Date | D6: Correct | E6: Commissions | F6: Accuracy Index
B7: 1 | C7: 1.1.26 | D7: 40 | E7: 1 | F7: =IF(C7="","",D7/(45+E7)) -> 0.86956522
B8: 2 | C8: 2..1.26 | D8: 39 | E8: 0 | F8: =IF(C8="","",D8/(45+E8)) -> 0.86666667
B9: 3 | C9: 3.1.26 | D9: 39 | E9: 0 | F9: =IF(C9="","",D9/(45+E9)) -> 0.86666667
B10: 4 | C10: 10.1.26 | D10: 30 | E10: 2 | F10: =IF(C10="","",D10/(45+E10)) -> 0.63829787
B11: 5 | F11: =IF(C11="","",D11/(45+E11))
B13: STATISTICS
B14: Number of Assessments = | C14: =COUNTA(C7:C11) -> 4
B15: Average AI = | C15: =AVERAGE(F7:F11) -> 0.81029911
B16: SD = | C16: =STDEV(F7:F11) -> 0.11467563 | D16: Range
B17: Range = | C17: =MAX(F7:F11)-MIN(F7:F11) -> 0.23126735 | D17: =MIN(F7:F11) -> 0.63829787 | E17: to | F17: =MAX(F7:F11) -> 0.86956522

Sheet Set Up Other Group Data
B2: SET UP OTHER TENS TEST GROUP DATA
B4: This sheet organizes and analyzes your group data. Enter the number of correct responses and commissions for each subject for the 3 trials. The Accuracy Index for each subject and for the group will be automatically generated. This table accomodates 30 subjects. | M4: Number Correct from Scoring tab = | O4: ='Enter Scores'!F13 -> 36
M5: RESPONDENT'S AI USING TABLE DATA
B6: Group Name | C6: My patient group | F6: Note | G6: Specific disease sample
E8: Enter # | F8: Enter # | I8: RESPONDENT RESULTS | N8: Group name | O8: =IF(C6="","",C6) -> My patient group
B9: Respondent # | C9: Enter ID | D9: Trial (secs) | E9: Correct | F9: Commissions | G9: AI | I9: Correct | J9: Commissions | K9: AI
B10: 1 | C10: 1 | D10: 1.8 | E10: 15 | F10: 0 | G10: =IF(E10="","",E10/(15+F10)) -> 1 | I10: =IF(E10="","",SUM(E10:E12)) -> 37 | J10: =IF(E10="","",SUM(F10:F12)) -> 0 | K10: =IF(E10="","",I10/(45+J10)) -> 0.82222222 | N10: Group stats | O10: Mean | P10: sd
D11: 1.4 | E11: 12 | F11: 0 | G11: =IF(E11="","",E11/(15+F11)) -> 0.8 | N11: Correct | O11: =IF(COUNTA(E10:E99)=0,"",AVERAGE(I10:I10:I99)) -> 33.666667 | P11: =IF(COUNTA(E10:E99)=0,"",(_xlfn.STDEV.P(I10:I99))) -> 3.3993463
D12: 1 | E12: 10 | F12: 0 | G12: =IF(E12="","",E12/(15+F12)) -> 0.66666667 | N12: Commissions | O12: =IF(COUNTA(F10:F99)=0,"",AVERAGE(J10:J99)) -> 3 | P12: =IF(COUNTA(E10:E99)=0,"",(_xlfn.STDEV.P(J10:J99))) -> 3.5590261
B13: 2 | D13: 1.8 | E13: 12 | F13: 2 | G13: =IF(E13="","",E13/(15+F13)) -> 0.70588235 | I13: =IF(E13="","",SUM(E13:E15)) -> 35 | J13: =IF(E13="","",SUM(F13:F15)) -> 8 | K13: =IF(E13="","",I13/(45+J13)) -> 0.66037736 | N13: Group AI | O13: =IF(O11="","",O11/(45+O12)) -> 0.70138889
D14: 1.4 | E14: 12 | F14: 2 | G14: =IF(E14="","",E14/(15+F14)) -> 0.70588235 | N14: Group AI sd | O14: =_xlfn.STDEV.S(K10:K99) -> 0.10317682
D15: 1 | E15: 11 | F15: 4 | G15: =IF(E15="","",E15/(15+F15)) -> 0.57894737 | N15: Respondent vs. Group | O15: =IF(O11="","",'Enter Scores'!C21/(O13+O14)) -> 0.97270948
B16: 3 | D16: 1.8 | E16: 12 | F16: 0 | G16: =IF(E16="","",E16/(15+F16)) -> 0.8 | I16: =IF(E16="","",SUM(E16:E18)) -> 29 | J16: =IF(E16="","",SUM(F16:F18)) -> 1 | K16: =IF(E16="","",I16/(45+J16)) -> 0.63043478 | N16: Count | O16: =COUNT(G12,G15,G18,G21,G24,G27,G30,G33,G36,G39,G42,G45,G48,G51,G54,G57,G60,G63,G66,G69,G72,G75,G78,G81,G84,G87,G90,G93,G96,G99) -> 3
D17: 1.4 | E17: 12 | F17: 0 | G17: =IF(E17="","",E17/(15+F17)) -> 0.8
D18: 1 | E18: 5 | F18: 1 | G18: =IF(E18="","",E18/(15+F18)) -> 0.3125 | M18: Do not enter data into the above cells. The stats will be automatically generated using the table of individual scores. These results will also entered into the LOCAL OR OTHER GROUP norms table on the Scoring tab.
B19: 4 | D19: 1.8 | G19: =IF(E19="","",E19/(15+F19)) | I19: =IF(E19="","",SUM(E19:E21)) | J19: =IF(E19="","",SUM(F19:F21)) | K19: =IF(E19="","",I19/(45+J19))
D20: 1.4 | G20: =IF(E20="","",E20/(15+F20))
D21: 1 | G21: =IF(E21="","",E21/(15+F21))
B22: 5 | D22: 1.8 | G22: =IF(E22="","",E22/(15+F22)) | I22: =IF(E22="","",SUM(E22:E24)) | J22: =IF(E22="","",SUM(F22:F24)) | K22: =IF(E22="","",I22/(45+J22))
D23: 1.4 | G23: =IF(E23="","",E23/(15+F23))
D24: 1 | G24: =IF(E24="","",E24/(15+F24)) | M24: RESPONDENT'S AI USING DATA FROM OTHER SOURCE
B25: 6 | D25: 1.8 | G25: =IF(E25="","",E25/(15+F25)) | I25: =IF(E25="","",SUM(E25:E27)) | J25: =IF(E25="","",SUM(F25:F27)) | K25: =IF(E25="","",I25/(45+J25))
D26: 1.4 | G26: =IF(E26="","",E26/(15+F26))
D27: 1 | G27: =IF(E27="","",E27/(15+F27)) | N27: Group name | O27: Head injury sample
B28: 7 | D28: 1.8 | G28: =IF(E28="","",E28/(15+F28)) | I28: =IF(E28="","",SUM(E28:E30)) | J28: =IF(E28="","",SUM(F28:F30)) | K28: =IF(E28="","",I28/(45+J28))
D29: 1.4 | G29: =IF(E29="","",E29/(15+F29)) | O29: Group stats
D30: 1 | G30: =IF(E30="","",E30/(15+F30)) | N30: Group Correct mean | O30: 35
B31: 8 | D31: 1.8 | G31: =IF(E31="","",E31/(15+F31)) | I31: =IF(E31="","",SUM(E31:E33)) | J31: =IF(E31="","",SUM(F31:F33)) | K31: =IF(E31="","",I31/(45+J31)) | N31: Group total Correct sd | O31: 2.2
D32: 1.4 | G32: =IF(E32="","",E32/(15+F32)) | N32: Group AI | O32: =IF(O30="","",O30/(45+O31)) -> 0.74152542
D33: 1 | G33: =IF(E33="","",E33/(15+F33)) | N33: Group AI sd | O33: 0.051
B34: 9 | D34: 1.8 | G34: =IF(E34="","",E34/(15+F34)) | I34: =IF(E34="","",SUM(E34:E36)) | J34: =IF(E34="","",SUM(F34:F36)) | K34: =IF(E34="","",I34/(45+J34)) | N34: Respondent's AI vs group | O34: =IF(O30="","",O32/(O32+O33)) -> 0.93564875
D35: 1.4 | G35: =IF(E35="","",E35/(15+F35))
D36: 1 | G36: =IF(E36="","",E36/(15+F36)) | M36: In the white cells, enter the group name, number of correct mean and sd, and group AI sd from data from another source to obtain the respondent's AI compared to this group. These results will entered into the LOCAL OR OTHER GROUP table on the Scoring tab.
B37: 10 | D37: 1.8 | G37: =IF(E37="","",E37/(15+F37)) | I37: =IF(E37="","",SUM(E37:E39)) | J37: =IF(E37="","",SUM(F37:F39)) | K37: =IF(E37="","",I37/(45+J37))
D38: 1.4 | G38: =IF(E38="","",E38/(15+F38))
D39: 1 | G39: =IF(E39="","",E39/(15+F39))
B40: 11 | D40: 1.8 | G40: =IF(E40="","",E40/(15+F40)) | I40: =IF(E40="","",SUM(E40:E42)) | J40: =IF(E40="","",SUM(F40:F42)) | K40: =IF(E40="","",I40/(45+J40))
D41: 1.4 | G41: =IF(E41="","",E41/(15+F41))
D42: 1 | G42: =IF(E42="","",E42/(15+F42))
B43: 12 | D43: 1.8 | G43: =IF(E43="","",E43/(15+F43)) | I43: =IF(E43="","",SUM(E43:E45)) | J43: =IF(E43="","",SUM(F43:F45)) | K43: =IF(E43="","",I43/(45+J43))
D44: 1.4 | G44: =IF(E44="","",E44/(15+F44))
D45: 1 | G45: =IF(E45="","",E45/(15+F45))
B46: 13 | D46: 1.8 | G46: =IF(E46="","",E46/(15+F46)) | I46: =IF(E46="","",SUM(E46:E48)) | J46: =IF(E46="","",SUM(F46:F48)) | K46: =IF(E46="","",I46/(45+J46))
D47: 1.4 | G47: =IF(E47="","",E47/(15+F47))
D48: 1 | G48: =IF(E48="","",E48/(15+F48))
B49: 14 | D49: 1.8 | G49: =IF(E49="","",E49/(15+F49)) | I49: =IF(E49="","",SUM(E49:E51)) | J49: =IF(E49="","",SUM(F49:F51)) | K49: =IF(E49="","",I49/(45+J49))
D50: 1.4 | G50: =IF(E50="","",E50/(15+F50))
D51: 1 | G51: =IF(E51="","",E51/(15+F51))
B52: 15 | D52: 1.8 | G52: =IF(E52="","",E52/(15+F52)) | I52: =IF(E52="","",SUM(E52:E54)) | J52: =IF(E52="","",SUM(F52:F54)) | K52: =IF(E52="","",I52/(45+J52))
D53: 1.4 | G53: =IF(E53="","",E53/(15+F53))
D54: 1 | G54: =IF(E54="","",E54/(15+F54))
B55: 16 | D55: 1.8 | G55: =IF(E55="","",E55/(15+F55)) | I55: =IF(E55="","",SUM(E55:E57)) | J55: =IF(E55="","",SUM(F55:F57)) | K55: =IF(E55="","",I55/(45+J55))
D56: 1.4 | G56: =IF(E56="","",E56/(15+F56))
D57: 1 | G57: =IF(E57="","",E57/(15+F57))
B58: 17 | D58: 1.8 | G58: =IF(E58="","",E58/(15+F58)) | I58: =IF(E58="","",SUM(E58:E60)) | J58: =IF(E58="","",SUM(F58:F60)) | K58: =IF(E58="","",I58/(45+J58))
D59: 1.4 | G59: =IF(E59="","",E59/(15+F59))
D60: 1 | G60: =IF(E60="","",E60/(15+F60))
B61: 18 | D61: 1.8 | G61: =IF(E61="","",E61/(15+F61)) | I61: =IF(E61="","",SUM(E61:E63)) | J61: =IF(E61="","",SUM(F61:F63)) | K61: =IF(E61="","",I61/(45+J61))
D62: 1.4 | G62: =IF(E62="","",E62/(15+F62))
D63: 1 | G63: =IF(E63="","",E63/(15+F63))
B64: 19 | D64: 1.8 | G64: =IF(E64="","",E64/(15+F64)) | I64: =IF(E64="","",SUM(E64:E66)) | J64: =IF(E64="","",SUM(F64:F66)) | K64: =IF(E64="","",I64/(45+J64))
D65: 1.4 | G65: =IF(E65="","",E65/(15+F65))
D66: 1 | G66: =IF(E66="","",E66/(15+F66))
B67: 20 | D67: 1.8 | G67: =IF(E67="","",E67/(15+F67)) | I67: =IF(E67="","",SUM(E67:E69)) | J67: =IF(E67="","",SUM(F67:F69)) | K67: =IF(E67="","",I67/(45+J67))
D68: 1.4 | G68: =IF(E68="","",E68/(15+F68))
D69: 1 | G69: =IF(E69="","",E69/(15+F69))
B70: 21 | D70: 1.8 | G70: =IF(E70="","",E70/(15+F70)) | I70: =IF(E70="","",SUM(E70:E72)) | J70: =IF(E70="","",SUM(F70:F72)) | K70: =IF(E70="","",I70/(45+J70))
D71: 1.4 | G71: =IF(E71="","",E71/(15+F71))
D72: 1 | G72: =IF(E72="","",E72/(15+F72))
B73: 22 | D73: 1.8 | G73: =IF(E73="","",E73/(15+F73)) | I73: =IF(E73="","",SUM(E73:E75)) | J73: =IF(E73="","",SUM(F73:F75)) | K73: =IF(E73="","",I73/(45+J73))
D74: 1.4 | G74: =IF(E74="","",E74/(15+F74))
D75: 1 | G75: =IF(E75="","",E75/(15+F75))
B76: 23 | D76: 1.8 | G76: =IF(E76="","",E76/(15+F76)) | I76: =IF(E76="","",SUM(E76:E78)) | J76: =IF(E76="","",SUM(F76:F78)) | K76: =IF(E76="","",I76/(45+J76))
D77: 1.4 | G77: =IF(E77="","",E77/(15+F77))
D78: 1 | G78: =IF(E78="","",E78/(15+F78))
B79: 24 | D79: 1.8 | G79: =IF(E79="","",E79/(15+F79)) | I79: =IF(E79="","",SUM(E79:E81)) | J79: =IF(E79="","",SUM(F79:F81)) | K79: =IF(E79="","",I79/(45+J79))
D80: 1.4 | G80: =IF(E80="","",E80/(15+F80))
D81: 1 | G81: =IF(E81="","",E81/(15+F81))
B82: 25 | D82: 1.8 | G82: =IF(E82="","",E82/(15+F82)) | I82: =IF(E82="","",SUM(E82:E84)) | J82: =IF(E82="","",SUM(F82:F84)) | K82: =IF(E82="","",I82/(45+J82))
D83: 1.4 | G83: =IF(E83="","",E83/(15+F83))
D84: 1 | G84: =IF(E84="","",E84/(15+F84))
B85: 26 | D85: 1.8 | G85: =IF(E85="","",E85/(15+F85)) | I85: =IF(E85="","",SUM(E85:E87)) | J85: =IF(E85="","",SUM(F85:F87)) | K85: =IF(E85="","",I85/(45+J85))
D86: 1.4 | G86: =IF(E86="","",E86/(15+F86))
D87: 1 | G87: =IF(E87="","",E87/(15+F87))
B88: 27 | D88: 1.8 | G88: =IF(E88="","",E88/(15+F88)) | I88: =IF(E88="","",SUM(E88:E90)) | J88: =IF(E88="","",SUM(F88:F90)) | K88: =IF(E88="","",I88/(45+J88))
D89: 1.4 | G89: =IF(E89="","",E89/(15+F89))
D90: 1 | G90: =IF(E90="","",E90/(15+F90))
B91: 28 | D91: 1.8 | G91: =IF(E91="","",E91/(15+F91)) | I91: =IF(E91="","",SUM(E91:E93)) | J91: =IF(E91="","",SUM(F91:F93)) | K91: =IF(E91="","",I91/(45+J91))
D92: 1.4 | G92: =IF(E92="","",E92/(15+F92))
D93: 1 | G93: =IF(E93="","",E93/(15+F93))
B94: 29 | D94: 1.8 | G94: =IF(E94="","",E94/(15+F94)) | I94: =IF(E94="","",SUM(E94:E96)) | J94: =IF(E94="","",SUM(F94:F96)) | K94: =IF(E94="","",I94/(45+J94))
D95: 1.4 | G95: =IF(E95="","",E95/(15+F95))
D96: 1 | G96: =IF(E96="","",E96/(15+F96))
B97: 30 | D97: 1.8 | G97: =IF(E97="","",E97/(15+F97)) | I97: =IF(E97="","",SUM(E97:E99)) | J97: =IF(E97="","",SUM(F97:F99)) | K97: =IF(E97="","",I97/(45+J97))
D98: 1.4 | G98: =IF(E98="","",E98/(15+F98))
D99: 1 | G99: =IF(E99="","",E99/(15+F99))

Sheet Healthy Controls Comparison
B2: RESPONDENT PERFORMANCE COMPARED TO HEALTHY NORMS
B4: Name | C4: ='Enter Scores'!B4 -> Sam Sample | E4: Date | F4: ='Enter Scores'!E4 -> 11.1.26
C6: HEALTHY NORMS | E6: RESPONDENT RESULTS | F6: RESPONDENT DIFFERENCE
C7: Mean | D7: SD | G7: z score
B8: Correct | C8: 43.32 | D8: 2.19 | E8: ='Enter Scores'!F13 -> 36 | F8: ='Enter Scores'!F13-'Healthy Controls Comparison'!C8 -> -7.32 | G8: ='Enter Scores'!D19 -> -3.3424658
B9: Commissions | C9: 0.45 | D9: 0.65 | E9: ='Enter Scores'!G13 -> 1 | F9: ='Enter Scores'!G13-'Healthy Controls Comparison'!C9 -> 0.55 | G9: ='Enter Scores'!D20 -> -2.2307692
B10: Target % | C10: 0.962 | E10: ='Enter Scores'!F14 -> 0.8 | F10: ='Enter Scores'!F14-'Healthy Controls Comparison'!C10 -> -0.162
B11: Accuracy Index | C11: 0.9516 | D11: 5.65 | E11: ='Enter Scores'!C21 -> 0.7826087 | F11: ='Enter Scores'!C21-'Healthy Controls Comparison'!C11 -> -0.1689913 | G11: ='Enter Scores'!D21 -> -2.9909965
C13: Commission errors: Higher score = more impairment

Sheet Print Results
B2: TENS TEST © 4.3 | C2: =" Results for " & 'Enter Scores'!B4 -> Results for Sam Sample | F2: ='Enter Scores'!E4 -> 11.1.26 | H2: ='Enter Scores'!F4 -> 56 | I2: ='Enter Scores'!I4 -> Memory concerns
B3: © Glen D. Greenberg PhD | C3: Respondent | F3: Date of testing | H3: Age | I3: Diagnosis or Group
B4: greenbergg22@gmail.com
C6: Note | D6: ='Enter Scores'!O4 -> Sample data
C7: Results Summary | D7: ='Enter Scores'!Q10 -> An Accuracy Index of 78% was obtained with 36 Correct identifications out of 45 targets, with 1 Commission errors. This performance is classified as Moderate to Severe Difficulty.
B9: INTERVAL (secs) | C9: Correct | D9: Commissions | E9: Accuracy Indexes
B10: 1.8 sec. | C10: ='Enter Scores'!F10 -> 15 | D10: ='Enter Scores'!G10 -> 0 | E10: ='Enter Scores'!H10 -> 1
B11: 1.4 sec. | C11: ='Enter Scores'!F11 -> 14 | D11: ='Enter Scores'!G11 -> 0 | E11: ='Enter Scores'!H11 -> 0.93333333
B12: 1.0 sec. | C12: ='Enter Scores'!F12 -> 7 | D12: ='Enter Scores'!G12 -> 1 | E12: ='Enter Scores'!H12 -> 0.4375
B13: Totals | C13: ='Enter Scores'!F13 -> 36 | D13: ='Enter Scores'!G13 -> 1 | E13: ='Enter Scores'!H13 -> 0.7826087 | I13: Accuracy Index
B14: Target Hit % | C14: =C13/45 -> 0.8 | E14: =C13/(45+D13) -> 0.7826087
B15: ='Enter Scores'!B21 -> Accuracy Index (AI) | C15: ='Enter Scores'!C21 -> 0.7826087 | D15: ='Enter Scores'!O13 -> Moderate to Severe Difficulty
B17: TENS TEST RESULTS (Correct vs. Commissions) | G17: TENS TEST ACCURACY INDEX ACROSS TRIALS
B27: 1.8 sec 1.4 sec. 1.0 sec
B29: RESPONDENT COMPARISON TO HEALTHY TENS TEST CONTROLS
C30: Score | D30: z score | E30: T score | F30: SS
B31: Correct | C31: ='Enter Scores'!C19 -> 36 | D31: ='Enter Scores'!D19 -> -3.3424658 | E31: ='Enter Scores'!E19 -> 16.666667 | F31: ='Enter Scores'!F19 -> 50
B32: Commissions | C32: ='Enter Scores'!C20 -> 1 | D32: ='Enter Scores'!D20 -> -2.2307692 | E32: ='Enter Scores'!E20 -> 27.692308 | F32: ='Enter Scores'!F20 -> 66.538462
B33: Accuracy Index | C33: ='Enter Scores'!C21 -> 0.7826087 | D33: ='Enter Scores'!D21 -> -2.9909965 | E33: ='Enter Scores'!E21 -> 20.090035 | F33: ='Enter Scores'!F21 -> 55.135052
B35: RESPONDENT RATING OF THEIR TENS TEST PERFORMANCE | H35: RESPONDENT COMPARED TO TABLE OF SCORES
B36: Difficulty Rating | D36: ='Enter Scores'!C31 -> Easy | H36: Group | I36: ='Enter Scores'!M33 -> My patient group
B37: Estimated Accuracy % | D37: ='Enter Scores'!C32 -> 0.5 | H37: Group AI | I37: ='Set Up Other Group Data'!O13 -> 0.70138889
B38: Actual Target Accuracy | D38: ='Enter Scores'!C33 -> 0.8 | H38: AI vs. Group | I38: ='Set Up Other Group Data'!O15 -> 0.97270948
B39: Difference | D39: ='Enter Scores'!C34 -> -0.3 | E39: ='Enter Scores'!E31 -> Under-estimates ability
B40: ='Enter Scores'!E32 -> Under-estimated performance may indicate poor awareness of ability or low mood. | H40: RESPONDENT COMPARED TO KNOWN GROUP NORMS
H41: Group name | I41: ='Set Up Other Group Data'!O27 -> Head injury sample
H42: Group AI | I42: ='Set Up Other Group Data'!O32 -> 0.74152542
H43: AI vs. Group | I43: ='Set Up Other Group Data'!O34 -> 0.93564875
Q47: Easy
R48: A little difficult
R49: Moderately difficult | T49: 1
R50: Extremely difficult | T50: =E14 -> 0.7826087
T51: =T49-T50 -> 0.2173913
X81: =CONCATENATE("Of the 45 targets, ",C18," ","were identified with ",C19," ","commission errors. This corresponds to an Accuracy Index of "&TEXT(C21,"0% ")&"which contrasts with the average of 95% for healthy individuals.") -> Of the 45 targets, were identified with commission errors. This corresponds to an Accuracy Index of 0% which contrasts with the average of 95% for healthy individuals.
X84: =CONCATENATE("The Accuracy Index, which takes into account correct answers and errors, is " &TEXT('Healthy Controls Comparison'!#REF!,"0%")&" different from the normative sample.") -> #REF!

Sheet AI interpretation
B2: Tens Test © AI interpretation of results
B3: Copy and paste the following table into an AI chatbox to obtain an interpretation of the Tens Test results
B4: Analyze this table of results from the Tens Test and interpret the number of correct hits and commission errors over the three increasing faster auditory concentration trials. Healthy people perform this test with 95% accuracy.
B5: Stimulus interval | C5: Number correct out of 15 | D5: Number of commission errors
B6: 1.8 seconds | C6: ='Enter Scores'!F10 -> 15 | D6: ='Enter Scores'!G10 -> 0
B7: 1.4 seconds | C7: ='Enter Scores'!F11 -> 14 | D7: ='Enter Scores'!G11 -> 0
B8: 1.0 seconds | C8: ='Enter Scores'!F12 -> 7 | D8: ='Enter Scores'!G12 -> 1
B10: =HYPERLINK("https://openai.com", "OpenAI Click Here") -> OpenAI Click Here | D10: =HYPERLINK("https://gemini.google.com/app", "Google Gemini Click Here") -> Google Gemini Click Here
B12: OpenAI ChatCPT | D12: Google Gemini
B14: Other AI prompts to consider based on the respondent's results (Paste one into a Chat Box)
B16: 1 | C16: What activities would be helpful to enhance a person's ability to sustain concentration?
B19: 2 | C19: When someone can initially pay attention well but then experiences difficulty when required to concentrate over a long period, what could be the causes and what strategies could help them?
B22: 3 | C22: When someone can pay attention well but experiences difficulty when required to rapidly think, what could be the causes and which strategies can help them?
C24: You may need to sign-in with an AI agent to obtain results
